Workbook

Sheet te20190301001
A1: UG | B1: DATA | C1: VALOR | D1: CNPJCREDOR | E1: TIPO | F1: UNIDADEGESTORADC | G1: GESTAODC | H1: DC | I1: UO | J1: SUBACAO | K1: FONTE | L1: NATUREZA | M1: MODALIDADE | N1: INSTRUMENTO | O1: UOCOMPLEMENTO | P1: CENTRALIZADO | Q1: PROCESSO | R1: BANCO | S1: AGENCIA | T1: CONTA | U1: HISTÓRICO | V1: ORIGEM
A2: 45001 | B2: 44664 | C2: 13140455 | D2: 31013586000152 | E2: 2 | F2: 0 | G2: 0 | H2: 0 | I2: 45001 | J2: 011567 | K2: 0131000000 | L2: 33423926 | M2: 1 | N2: 59 | O2: 100 | P2: 0 | Q2: SED000000053319/2022 | R2: 1 | S2: 5401 | T2: 000041851X | U2: =CONCATENATE(Plan1!A1,Plan1!B1,Plan1!C1,Plan1!D1,Plan1!E1) -> TRANSP.ESCOLAR PARC02-ARARANGUA | V2: TRANSPES
A3: 45001 | B3: 44664 | C3: 3431300 | D3: 31019089000161 | E3: 2 | F3: 0 | G3: 0 | H3: 0 | I3: 45001 | J3: 011567 | K3: 0131000000 | L3: 33423926 | M3: 1 | N3: 59 | O3: 100 | P3: 0 | Q3: SED000000053319/2022 | R3: 1 | S3: 005433X | T3: 99740 | U3: =CONCATENATE(Plan1!A2,Plan1!B2,Plan1!C2,Plan1!D2,Plan1!E2) -> TRANSP.ESCOLAR PARC02-ABDON BATISTA | V3: TRANSPES
A4: 45001 | B4: 44664 | C4: 14461298 | D4: 83009886000242 | E4: 2 | F4: 0 | G4: 0 | H4: 0 | I4: 45001 | J4: 011567 | K4: 0131000000 | L4: 33423926 | M4: 1 | N4: 59 | O4: 100 | P4: 0 | Q4: SED000000053319/2022 | R4: 1 | S4: 001382X | T4: 297119 | U4: =CONCATENATE(Plan1!A3,Plan1!B3,Plan1!C3,Plan1!D3,Plan1!E3) -> TRANSP.ESCOLAR PARC02-ABELARDO LUZ | V4: TRANSPES
A5: 45001 | B5: 44664 | C5: 4891688 | D5: 31394690000134 | E5: 2 | F5: 0 | G5: 0 | H5: 0 | I5: 45001 | J5: 011567 | K5: 0131000000 | L5: 33423926 | M5: 1 | N5: 59 | O5: 100 | P5: 0 | Q5: SED000000053319/2022 | R5: 1 | S5: 36331 | T5: 162361 | U5: =CONCATENATE(Plan1!A4,Plan1!B4,Plan1!C4,Plan1!D4,Plan1!E4) -> TRANSP.ESCOLAR PARC02-AGROLANDIA | V5: TRANSPES
A6: 45001 | B6: 44664 | C6: 4345855 | D6: 83102590000190 | E6: 2 | F6: 0 | G6: 0 | H6: 0 | I6: 45001 | J6: 011567 | K6: 0131000000 | L6: 33423926 | M6: 1 | N6: 59 | O6: 100 | P6: 0 | Q6: SED000000053319/2022 | R6: 1 | S6: 54046 | T6: 325368 | U6: =CONCATENATE(Plan1!A5,Plan1!B5,Plan1!C5,Plan1!D5,Plan1!E5) -> TRANSP.ESCOLAR PARC02-AGRONÔMICA | V6: TRANSPES
A7: 45001 | B7: 44664 | C7: 3009622 | D7: 30950470000187 | E7: 2 | F7: 0 | G7: 0 | H7: 0 | I7: 45001 | J7: 011567 | K7: 0131000000 | L7: 33423926 | M7: 1 | N7: 59 | O7: 100 | P7: 0 | Q7: SED000000053319/2022 | R7: 1 | S7: 2070 | T7: 120758 | U7: =CONCATENATE(Plan1!A6,Plan1!B6,Plan1!C6,Plan1!D6,Plan1!E6) -> TRANSP.ESCOLAR PARC02-AGUA DOCE | V7: TRANSPES
A8: 45001 | B8: 44664 | C8: 6477611 | D8: 30378794000192 | E8: 2 | F8: 0 | G8: 0 | H8: 0 | I8: 45001 | J8: 011567 | K8: 0131000000 | L8: 33423926 | M8: 1 | N8: 59 | O8: 100 | P8: 0 | Q8: SED000000053319/2022 | R8: 1 | S8: 004542X | T8: 000012592X | U8: TRANSP.ESCOLAR PARC01-ÁGUAS DE CHAPECÓ | V8: TRANSPES
A9: 45001 | B9: 44664 | C9: 1492066 | D9: 95990180000293 | E9: 2 | F9: 0 | G9: 0 | H9: 0 | I9: 45001 | J9: 011567 | K9: 0131000000 | L9: 33423926 | M9: 1 | N9: 59 | O9: 100 | P9: 0 | Q9: SED000000053319/2022 | R9: 1 | S9: 53953 | T9: 94579 | U9: =CONCATENATE(Plan1!A8,Plan1!B8,Plan1!C8,Plan1!D8,Plan1!E8) -> TRANSP.ESCOLAR PARC02-AGUAS FRIAS | V9: TRANSPES
A10: 45001 | B10: 44664 | C10: 4169265 | D10: 31010656000119 | E10: 2 | F10: 0 | G10: 0 | H10: 0 | I10: 45001 | J10: 011567 | K10: 0131000000 | L10: 33423926 | M10: 1 | N10: 59 | O10: 100 | P10: 0 | Q10: SED000000053319/2022 | R10: 1 | S10: 53481 | T10: 77518 | U10: =CONCATENATE(Plan1!A9,Plan1!B9,Plan1!C9,Plan1!D9,Plan1!E9) -> TRANSP.ESCOLAR PARC02-ÁGUAS MORNAS | V10: TRANSPES
A11: 45001 | B11: 44664 | C11: 16597096 | D11: 31029003000181 | E11: 2 | F11: 0 | G11: 0 | H11: 0 | I11: 45001 | J11: 011567 | K11: 0131000000 | L11: 33423926 | M11: 1 | N11: 59 | O11: 100 | P11: 0 | Q11: SED000000053319/2022 | R11: 1 | S11: 13838 | T11: 152781 | U11: =CONCATENATE(Plan1!A10,Plan1!B10,Plan1!C10,Plan1!D10,Plan1!E10) -> TRANSP.ESCOLAR PARC02-ALFREDO WAGNER | V11: TRANSPES
A12: 45001 | B12: 44664 | C12: 1055633 | D12: 31043591000108 | E12: 2 | F12: 0 | G12: 0 | H12: 0 | I12: 45001 | J12: 011567 | K12: 0131000000 | L12: 33423926 | M12: 1 | N12: 59 | O12: 100 | P12: 0 | Q12: SED000000053319/2022 | R12: 1 | S12: 53554 | T12: 64777 | U12: =CONCATENATE(Plan1!A11,Plan1!B11,Plan1!C11,Plan1!D11,Plan1!E11) -> TRANSP.ESCOLAR PARC02-ALTO BELA VISTA | V12: TRANSPES
A13: 45001 | B13: 44664 | C13: 2610477 | D13: 83024687000203 | E13: 2 | F13: 0 | G13: 0 | H13: 0 | I13: 45001 | J13: 011567 | K13: 0131000000 | L13: 33423926 | M13: 1 | N13: 59 | O13: 100 | P13: 0 | Q13: SED000000053319/2022 | R13: 1 | S13: 14397 | T13: 137952 | U13: =CONCATENATE(Plan1!A12,Plan1!B12,Plan1!C12,Plan1!D12,Plan1!E12) -> TRANSP.ESCOLAR PARC02-ANCHIETA | V13: TRANSPES
A14: 45001 | B14: 44664 | C14: 14007670 | D14: 30774373000180 | E14: 2 | F14: 0 | G14: 0 | H14: 0 | I14: 45001 | J14: 011567 | K14: 0131000000 | L14: 33423926 | M14: 1 | N14: 59 | O14: 100 | P14: 0 | Q14: SED000000053319/2022 | R14: 1 | S14: 52973 | T14: 74500 | U14: =CONCATENATE(Plan1!A13,Plan1!B13,Plan1!C13,Plan1!D13,Plan1!E13) -> TRANSP.ESCOLAR PARC02-ANGELINA | V14: TRANSPES
A15: 45001 | B15: 44664 | C15: 8207466 | D15: 31158499000193 | E15: 2 | F15: 0 | G15: 0 | H15: 0 | I15: 45001 | J15: 011567 | K15: 0131000000 | L15: 33423926 | M15: 1 | N15: 59 | O15: 100 | P15: 0 | Q15: SED000000053319/2022 | R15: 1 | S15: 001446X | T15: 221945 | U15: =CONCATENATE(Plan1!A14,Plan1!B14,Plan1!C14,Plan1!D14,Plan1!E14) -> TRANSP.ESCOLAR PARC02-ANITA GARIBALDI | V15: TRANSPES
A16: 45001 | B16: 44664 | C16: 7241266 | D16: 30918913000152 | E16: 2 | F16: 0 | G16: 0 | H16: 0 | I16: 45001 | J16: 011567 | K16: 0131000000 | L16: 33423926 | M16: 1 | N16: 59 | O16: 100 | P16: 0 | Q16: SED000000053319/2022 | R16: 1 | S16: 53449 | T16: 63096 | U16: =CONCATENATE(Plan1!A15,Plan1!B15,Plan1!C15,Plan1!D15,Plan1!E15) -> TRANSP.ESCOLAR PARC02-ANITAPOLIS | V16: TRANSPES
A17: 45001 | B17: 44664 | C17: 6670300 | D17: 30988862000135 | E17: 2 | F17: 0 | G17: 0 | H17: 0 | I17: 45001 | J17: 011567 | K17: 0131000000 | L17: 33423926 | M17: 1 | N17: 59 | O17: 100 | P17: 0 | Q17: SED000000053319/2022 | R17: 1 | S17: 003634X | T17: 121746 | U17: =CONCATENATE(Plan1!A16,Plan1!B16,Plan1!C16,Plan1!D16,Plan1!E16) -> TRANSP.ESCOLAR PARC02-ANTONIO CARLOS | V17: TRANSPES
A18: 45001 | B18: 44664 | C18: 12483525 | D18: 30949868000101 | E18: 2 | F18: 0 | G18: 0 | H18: 0 | I18: 45001 | J18: 011567 | K18: 0131000000 | L18: 33423926 | M18: 1 | N18: 59 | O18: 100 | P18: 0 | Q18: SED000000053319/2022 | R18: 1 | S18: 54429 | T18: 80845 | U18: =CONCATENATE(Plan1!A17,Plan1!B17,Plan1!C17,Plan1!D17,Plan1!E17) -> TRANSP.ESCOLAR PARC02-APIUNA | V18: TRANSPES
A19: 45001 | B19: 44664 | C19: 2313777 | D19: 30947140000132 | E19: 2 | F19: 0 | G19: 0 | H19: 0 | I19: 45001 | J19: 011567 | K19: 0131000000 | L19: 33423926 | M19: 1 | N19: 59 | O19: 100 | P19: 0 | Q19: SED000000053319/2022 | R19: 1 | S19: 4103 | T19: 661899 | U19: =CONCATENATE(Plan1!A18,Plan1!B18,Plan1!C18,Plan1!D18,Plan1!E18) -> TRANSP.ESCOLAR PARC02-ARABUTA | V19: TRANSPES
A20: 45001 | B20: 44664 | C20: 34051200 | D20: 30333695000194 | E20: 2 | F20: 0 | G20: 0 | H20: 0 | I20: 45001 | J20: 011567 | K20: 0131000000 | L20: 33423926 | M20: 1 | N20: 59 | O20: 100 | P20: 0 | Q20: SED000000053319/2022 | R20: 1 | S20: 14621 | T20: 248096 | U20: =CONCATENATE(Plan1!A19,Plan1!B19,Plan1!C19,Plan1!D19,Plan1!E19) -> TRANSP.ESCOLAR PARC02-ARAQUARI | V20: TRANSPES
A21: 45001 | B21: 44664 | C21: 3866444 | D21: 82928664000180 | E21: 2 | F21: 0 | G21: 0 | H21: 0 | I21: 45001 | J21: 011567 | K21: 0131000000 | L21: 33423926 | M21: 1 | N21: 59 | O21: 100 | P21: 0 | Q21: SED000000053319/2022 | R21: 1 | S21: 46426 | T21: 000006050X | U21: =CONCATENATE(Plan1!A20,Plan1!B20,Plan1!C20,Plan1!D20,Plan1!E20) -> TRANSP.ESCOLAR PARC02-ARMAZÉM | V21: TRANSPES
A22: 45001 | B22: 44664 | C22: 1172000 | D22: 30997915000184 | E22: 2 | F22: 0 | G22: 0 | H22: 0 | I22: 45001 | J22: 011567 | K22: 0131000000 | L22: 33423926 | M22: 1 | N22: 59 | O22: 100 | P22: 0 | Q22: SED000000053319/2022 | R22: 1 | S22: 53228 | T22: 74225 | U22: =CONCATENATE(Plan1!A21,Plan1!B21,Plan1!C21,Plan1!D21,Plan1!E21) -> TRANSP.ESCOLAR PARC02-ARROIO TRINTA | V22: TRANSPES
A23: 45001 | B23: 44664 | C23: 2065088 | D23: 30339305000193 | E23: 2 | F23: 0 | G23: 0 | H23: 0 | I23: 45001 | J23: 011567 | K23: 0131000000 | L23: 33423926 | M23: 1 | N23: 59 | O23: 100 | P23: 0 | Q23: SED000000053319/2022 | R23: 1 | S23: 8753 | T23: 404705 | U23: =CONCATENATE(Plan1!A22,Plan1!B22,Plan1!C22,Plan1!D22,Plan1!E22) -> TRANSP.ESCOLAR PARC02-ARVOREDO | V23: TRANSPES
A24: 45001 | B24: 44664 | C24: 5301333 | D24: 30975406000150 | E24: 2 | F24: 0 | G24: 0 | H24: 0 | I24: 45001 | J24: 011567 | K24: 0131000000 | L24: 33423926 | M24: 1 | N24: 59 | O24: 100 | P24: 0 | Q24: SED000000053319/2022 | R24: 1 | S24: 14788 | T24: 000020210X | U24: =CONCATENATE(Plan1!A23,Plan1!B23,Plan1!C23,Plan1!D23,Plan1!E23) -> TRANSP.ESCOLAR PARC02-ASCURRA | V24: TRANSPES
A25: 45001 | B25: 44664 | C25: 1693066 | D25: 30713026000148 | E25: 2 | F25: 0 | G25: 0 | H25: 0 | I25: 45001 | J25: 011567 | K25: 0131000000 | L25: 33423926 | M25: 1 | N25: 59 | O25: 100 | P25: 0 | Q25: SED000000053319/2022 | R25: 1 | S25: 53104 | T25: 71234 | U25: =CONCATENATE(Plan1!A24,Plan1!B24,Plan1!C24,Plan1!D24,Plan1!E24) -> TRANSP.ESCOLAR PARC02-ATALANTA | V25: TRANSPES
A26: 45001 | B26: 44664 | C26: 6408300 | D26: 30915822000163 | E26: 2 | F26: 0 | G26: 0 | H26: 0 | I26: 45001 | J26: 011567 | K26: 0131000000 | L26: 33423926 | M26: 1 | N26: 59 | O26: 100 | P26: 0 | Q26: SED000000053319/2022 | R26: 1 | S26: 005416X | T26: 000006680X | U26: =CONCATENATE(Plan1!A25,Plan1!B25,Plan1!C25,Plan1!D25,Plan1!E25) -> TRANSP.ESCOLAR PARC02-AURORA | V26: TRANSPES
A27: 45001 | B27: 44664 | C27: 1946877 | D27: 31048525000120 | E27: 2 | F27: 0 | G27: 0 | H27: 0 | I27: 45001 | J27: 011567 | K27: 0131000000 | L27: 33423926 | M27: 1 | N27: 59 | O27: 100 | P27: 0 | Q27: SED000000053319/2022 | R27: 1 | S27: 5401 | T27: 418714 | U27: =CONCATENATE(Plan1!A26,Plan1!B26,Plan1!C26,Plan1!D26,Plan1!E26) -> TRANSP.ESCOLAR PARC02- BALNEARIO ARROIO DO SILVA | V27: TRANSPES
A28: 45001 | B28: 44664 | C28: 6659933 | D28: 30749094000167 | E28: 2 | F28: 0 | G28: 0 | H28: 0 | I28: 45001 | J28: 011567 | K28: 0131000000 | L28: 33423926 | M28: 1 | N28: 59 | O28: 100 | P28: 0 | Q28: SED000000053319/2022 | R28: 1 | S28: 14621 | T28: 247987 | U28: =CONCATENATE(Plan1!A27,Plan1!B27,Plan1!C27,Plan1!D27,Plan1!E27) -> TRANSP.ESCOLAR PARC02-BALNEARIO BARRA DO SUL | V28: TRANSPES
A29: 45001 | B29: 44664 | C29: 3509155 | D29: 30119533000158 | E29: 2 | F29: 0 | G29: 0 | H29: 0 | I29: 45001 | J29: 011567 | K29: 0131000000 | L29: 33423926 | M29: 1 | N29: 59 | O29: 100 | P29: 0 | Q29: SED000000053319/2022 | R29: 1 | S29: 14893 | T29: 991813 | U29: =CONCATENATE(Plan1!A28,Plan1!B28,Plan1!C28,Plan1!D28,Plan1!E28) -> TRANSP.ESCOLAR PARC02-BALNEARIO CAMBORIU | V29: TRANSPES
A30: 45001 | B30: 44664 | C30: 2659911 | D30: 1511659000175 | E30: 2 | F30: 0 | G30: 0 | H30: 0 | I30: 45001 | J30: 011567 | K30: 0131000000 | L30: 33423926 | M30: 1 | N30: 59 | O30: 100 | P30: 0 | Q30: SED000000053319/2022 | R30: 1 | S30: 14109 | T30: 5209331 | U30: =CONCATENATE(Plan1!A29,Plan1!B29,Plan1!C29,Plan1!D29,Plan1!E29) -> TRANSP.ESCOLAR PARC02-BALNEÁRIO GAIVOTA | V30: TRANSPES
A31: 45001 | B31: 44664 | C31: 8632400 | D31: 19572240000199 | E31: 2 | F31: 0 | G31: 0 | H31: 0 | I31: 45001 | J31: 011567 | K31: 0131000000 | L31: 33423926 | M31: 1 | N31: 59 | O31: 100 | P31: 0 | Q31: SED000000053319/2022 | R31: 1 | S31: 32573 | T31: 213985 | U31: =CONCATENATE(Plan1!A30,Plan1!B30,Plan1!C30,Plan1!D30,Plan1!E30) -> TRANSP.ESCOLAR PARC02-BALNEARIO PICARRAS | V31: TRANSPES
A32: 45001 | B32: 44664 | C32: 8973091 | D32: 31174131000119 | E32: 2 | F32: 0 | G32: 0 | H32: 0 | I32: 45001 | J32: 011567 | K32: 0131000000 | L32: 33423926 | M32: 1 | N32: 59 | O32: 100 | P32: 0 | Q32: SED000000053319/2022 | R32: 1 | S32: 21180 | T32: 304980 | U32: =CONCATENATE(Plan1!A31,Plan1!B31,Plan1!C31,Plan1!D31,Plan1!E31) -> TRANSP.ESCOLAR PARC02-BALNEARIO RINCAO | V32: TRANSPES
A33: 45001 | B33: 44664 | C33: 121336 | D33: 1612528000265 | E33: 2 | F33: 0 | G33: 0 | H33: 0 | I33: 45001 | J33: 011567 | K33: 0131000000 | L33: 33423926 | M33: 1 | N33: 59 | O33: 100 | P33: 0 | Q33: SED000000053319/2022 | R33: 1 | S33: 5991 | T33: 533173 | U33: =CONCATENATE(Plan1!A32,Plan1!B32,Plan1!C32,Plan1!D32,Plan1!E32) -> TRANSP.ESCOLAR PARC02-BANDEIRANTE | V33: TRANSPES
A34: 45001 | B34: 44664 | C34: 1327133 | D34: 1612527000130 | E34: 2 | F34: 0 | G34: 0 | H34: 0 | I34: 45001 | J34: 011567 | K34: 0131000000 | L34: 33423926 | M34: 1 | N34: 59 | O34: 100 | P34: 0 | Q34: SED000000053319/2022 | R34: 1 | S34: 5991 | T34: 1281941 | U34: =CONCATENATE(Plan1!A33,Plan1!B33,Plan1!C33,Plan1!D33,Plan1!E33) -> TRANSP.ESCOLAR PARC02-BARRA BONITA | V34: TRANSPES
A35: 45001 | B35: 44664 | C35: 11066456 | D35: 30863569000141 | E35: 2 | F35: 0 | G35: 0 | H35: 0 | I35: 45001 | J35: 011567 | K35: 0131000000 | L35: 33423926 | M35: 1 | N35: 59 | O35: 100 | P35: 0 | Q35: SED000000053319/2022 | R35: 1 | S35: 14982 | T35: 217689 | U35: =CONCATENATE(Plan1!A34,Plan1!B34,Plan1!C34,Plan1!D34,Plan1!E34) -> TRANSP.ESCOLAR PARC02-BARRA VELHA | V35: TRANSPES
A36: 45001 | B36: 44664 | C36: 8195585 | D36: 30637526000148 | E36: 2 | F36: 0 | G36: 0 | H36: 0 | I36: 45001 | J36: 011567 | K36: 0131000000 | L36: 33423926 | M36: 1 | N36: 59 | O36: 100 | P36: 0 | Q36: SED000000053319/2022 | R36: 1 | S36: 3433 | T36: 345458 | U36: =CONCATENATE(Plan1!A35,Plan1!B35,Plan1!C35,Plan1!D35,Plan1!E35) -> TRANSP.ESCOLAR PARC02-BELA VISTA DO TOLDO | V36: TRANSPES
A37: 45001 | B37: 44664 | C37: 1039977 | D37: 80912108000190 | E37: 2 | F37: 0 | G37: 0 | H37: 0 | I37: 45001 | J37: 011567 | K37: 0131000000 | L37: 33423926 | M37: 1 | N37: 59 | O37: 100 | P37: 0 | Q37: SED000000053319/2022 | R37: 1 | S37: 13854 | T37: 112348 | U37: =CONCATENATE(Plan1!A36,Plan1!B36,Plan1!C36,Plan1!D36,Plan1!E36) -> TRANSP.ESCOLAR PARC02-BELMONTE | V37: TRANSPES
A38: 45001 | B38: 44664 | C38: 21128233 | D38: 31002688000172 | E38: 2 | F38: 0 | G38: 0 | H38: 0 | I38: 45001 | J38: 011567 | K38: 0131000000 | L38: 33423926 | M38: 1 | N38: 59 | O38: 100 | P38: 0 | Q38: SED000000053319/2022 | R38: 1 | S38: 28584 | T38: 139440 | U38: =CONCATENATE(Plan1!A37,Plan1!B37,Plan1!C37,Plan1!D37,Plan1!E37) -> TRANSP.ESCOLAR PARC02-BENEDITO NOVO | V38: TRANSPES
... A42: 45001 | B42: 44664 | C42: 10789493 | D42: 31032171000126 | E42: 2 | F42: 0 | G42: 0 | H42: 0 | I42: 45001 | J42: 011567 | K42: 0131000000 | L42: 33423926 | M42: 1 | N42: 59 | O42: 100 | P42: 0 | Q42: SED000000053319/2022 | R42: 1 | S42: 52574 | T42: 69140 | U42: =CONCATENATE(Plan1!A41,Plan1!B41,Plan1!C41,Plan1!D41,Plan1!E41) -> TRANSP.ESCOLAR PARC02-BOM JARDIM DA SERRA | V42: TRANSPES
A43: 45001 | B43: 44664 | C43: 855277 | D43: 1551148000187 | E43: 2 | F43: 0 | G43: 0 | H43: 0 | I43: 45001 | J43: 011567 | K43: 0131000000 | L43: 33423926 | M43: 1 | N43: 59 | O43: 100 | P43: 0 | Q43: SED000000053319/2022 | R43: 1 | S43: 000586X | T43: 1244841 | U43: =CONCATENATE(Plan1!A42,Plan1!B42,Plan1!C42,Plan1!D42,Plan1!E42) -> TRANSP.ESCOLAR PARC02-BOM JESUS | V43: TRANSPES
A44: 45001 | B44: 44664 | C44: 997142 | D44: 30606430000112 | E44: 2 | F44: 0 | G44: 0 | H44: 0 | I44: 45001 | J44: 011567 | K44: 0131000000 | L44: 33423926 | M44: 1 | N44: 59 | O44: 100 | P44: 0 | Q44: SED000000053319/2022 | R44: 1 | S44: 53848 | T44: 81167 | U44: =CONCATENATE(Plan1!A43,Plan1!B43,Plan1!C43,Plan1!D43,Plan1!E43) -> TRANSP.ESCOLAR PARC02-BOM JESUS DO OESTE | V44: TRANSPES
A45: 45001 | B45: 44664 | C45: 9340711 | D45: 30969904000190 | E45: 2 | F45: 0 | G45: 0 | H45: 0 | I45: 45001 | J45: 011567 | K45: 0131000000 | L45: 33423926 | M45: 1 | N45: 59 | O45: 100 | P45: 0 | Q45: SED000000053319/2022 | R45: 1 | S45: 9016 | T45: 159204 | U45: =CONCATENATE(Plan1!A44,Plan1!B44,Plan1!C44,Plan1!D44,Plan1!E44) -> TRANSP.ESCOLAR PARC02-BOM RETIRO | V45: TRANSPES
A46: 45001 | B46: 44664 | C46: 12348811 | D46: 13108020000122 | E46: 2 | F46: 0 | G46: 0 | H46: 0 | I46: 45001 | J46: 011567 | K46: 0131000000 | L46: 33423926 | M46: 1 | N46: 59 | O46: 100 | P46: 0 | Q46: SED000000053319/2022 | R46: 1 | S46: 32727 | T46: 243671 | U46: =CONCATENATE(Plan1!A45,Plan1!B45,Plan1!C45,Plan1!D45,Plan1!E45) -> TRANSP.ESCOLAR PARC02-BOMBINHAS | V46: TRANSPES
A47: 45001 | B47: 44664 | C47: 8082688 | D47: 30687259000113 | E47: 2 | F47: 0 | G47: 0 | H47: 0 | I47: 45001 | J47: 011567 | K47: 0131000000 | L47: 33423926 | M47: 1 | N47: 59 | O47: 100 | P47: 0 | Q47: SED000000053319/2022 | R47: 1 | S47: 53457 | T47: 82988 | U47: =CONCATENATE(Plan1!A46,Plan1!B46,Plan1!C46,Plan1!D46,Plan1!E46) -> TRANSP.ESCOLAR PARC02-BOTUVERA | V47: TRANSPES
A48: 45001 | B48: 44664 | C48: 17042155 | D48: 31002209000118 | E48: 2 | F48: 0 | G48: 0 | H48: 0 | I48: 45001 | J48: 011567 | K48: 0131000000 | L48: 33423926 | M48: 1 | N48: 59 | O48: 100 | P48: 0 | Q48: SED000000053319/2022 | R48: 1 | S48: 7382 | T48: 417645 | U48: =CONCATENATE(Plan1!A47,Plan1!B47,Plan1!C47,Plan1!D47,Plan1!E47) -> TRANSP.ESCOLAR PARC02-BRACO DO NORTE | V48: TRANSPES
A49: 45001 | B49: 44664 | C49: 1245411 | D49: 95952230000248 | E49: 2 | F49: 0 | G49: 0 | H49: 0 | I49: 45001 | J49: 011567 | K49: 0131000000 | L49: 33423926 | M49: 1 | N49: 59 | O49: 100 | P49: 0 | Q49: SED000000053319/2022 | R49: 1 | S49: 39659 | T49: 94072 | U49: =CONCATENATE(Plan1!A48,Plan1!B48,Plan1!C48,Plan1!D48,Plan1!E48) -> TRANSP.ESCOLAR PARC02-BRACO DO TROMBUDO | V49: TRANSPES
A50: 45001 | B50: 44664 | C50: 2889866 | D50: 1613853000161 | E50: 2 | F50: 0 | G50: 0 | H50: 0 | I50: 45001 | J50: 011567 | K50: 0131000000 | L50: 33423926 | M50: 1 | N50: 59 | O50: 100 | P50: 0 | Q50: SED000000053319/2022 | R50: 1 | S50: 6858 | T50: 2191512 | U50: =CONCATENATE(Plan1!A49,Plan1!B49,Plan1!C49,Plan1!D49,Plan1!E49) -> TRANSP.ESCOLAR PARC02-BRUNÓPOLIS | V50: TRANSPES
A51: 45001 | B51: 44664 | C51: 30813788 | D51: 30773430000107 | E51: 2 | F51: 0 | G51: 0 | H51: 0 | I51: 45001 | J51: 011567 | K51: 0131000000 | L51: 33423926 | M51: 1 | N51: 59 | O51: 100 | P51: 0 | Q51: SED000000053319/2022 | R51: 1 | S51: 4014 | T51: 799904 | U51: =CONCATENATE(Plan1!A50,Plan1!B50,Plan1!C50,Plan1!D50,Plan1!E50) -> TRANSP.ESCOLAR PARC02-BRUSQUE | V51: TRANSPES
A52: 45001 | B52: 44664 | C52: 8111488 | D52: 83074302000212 | E52: 2 | F52: 0 | G52: 0 | H52: 0 | I52: 45001 | J52: 011567 | K52: 0131000000 | L52: 33423926 | M52: 1 | N52: 59 | O52: 100 | P52: 0 | Q52: SED000000053319/2022 | R52: 1 | S52: 3751 | T52: 000049089X | U52: =CONCATENATE(Plan1!A51,Plan1!B51,Plan1!C51,Plan1!D51,Plan1!E51) -> TRANSP.ESCOLAR PARC02-CACADOR | V52: TRANSPES
A53: 45001 | B53: 44664 | C53: 1697088 | D53: 82940776000318 | E53: 2 | F53: 0 | G53: 0 | H53: 0 | I53: 45001 | J53: 011567 | K53: 0131000000 | L53: 33423926 | M53: 1 | N53: 59 | O53: 100 | P53: 0 | Q53: SED000000053319/2022 | R53: 1 | S53: 16985 | T53: 108065 | U53: =CONCATENATE(Plan1!A52,Plan1!B52,Plan1!C52,Plan1!D52,Plan1!E52) -> TRANSP.ESCOLAR PARC02-CAIBI | V53: TRANSPES
A54: 45001 | B54: 44664 | C54: 1491466 | D54: 95949806000137 | E54: 2 | F54: 0 | G54: 0 | H54: 0 | I54: 45001 | J54: 011567 | K54: 0131000000 | L54: 33423926 | M54: 1 | N54: 59 | O54: 100 | P54: 0 | Q54: SED000000053319/2022 | R54: 1 | S54: 3751 | T54: 1287087 | U54: =CONCATENATE(Plan1!A53,Plan1!B53,Plan1!C53,Plan1!D53,Plan1!E53) -> TRANSP.ESCOLAR PARC02-CALMON | V54: TRANSPES
A55: 45001 | B55: 44664 | C55: 4172733 | D55: 30753994000188 | E55: 2 | F55: 0 | G55: 0 | H55: 0 | I55: 45001 | J55: 011567 | K55: 0131000000 | L55: 33423926 | M55: 1 | N55: 59 | O55: 100 | P55: 0 | Q55: SED000000053319/2022 | R55: 1 | S55: 17078 | T55: 268283 | U55: =CONCATENATE(Plan1!A54,Plan1!B54,Plan1!C54,Plan1!D54,Plan1!E54) -> TRANSP.ESCOLAR PARC02-CAMBORIU | V55: TRANSPES
A56: 45001 | B56: 44664 | C56: 4555777 | D56: 83102749000258 | E56: 2 | F56: 0 | G56: 0 | H56: 0 | I56: 45001 | J56: 011567 | K56: 0131000000 | L56: 33423926 | M56: 1 | N56: 59 | O56: 100 | P56: 0 | Q56: SED000000053319/2022 | R56: 1 | S56: 17159 | T56: 164380 | U56: =CONCATENATE(Plan1!A55,Plan1!B55,Plan1!C55,Plan1!D55,Plan1!E55) -> TRANSP.ESCOLAR PARC02-CAMPO ALEGRE | V56: TRANSPES
A57: 45001 | B57: 44664 | C57: 3694900 | D57: 30921137000140 | E57: 2 | F57: 0 | G57: 0 | H57: 0 | I57: 45001 | J57: 011567 | K57: 0131000000 | L57: 33423926 | M57: 1 | N57: 59 | O57: 100 | P57: 0 | Q57: SED000000053319/2022 | R57: 1 | S57: 17167 | T57: 114235 | U57: =CONCATENATE(Plan1!A56,Plan1!B56,Plan1!C56,Plan1!D56,Plan1!E56) -> TRANSP.ESCOLAR PARC02-CAMPO BELO DO SUL | V57: TRANSPES
A58: 45001 | B58: 44664 | C58: 9610733 | D58: 31025007000191 | E58: 2 | F58: 0 | G58: 0 | H58: 0 | I58: 45001 | J58: 011567 | K58: 0131000000 | L58: 33423926 | M58: 1 | N58: 59 | O58: 100 | P58: 0 | Q58: SED000000053319/2022 | R58: 1 | S58: 17183 | T58: 41874 | U58: =CONCATENATE(Plan1!A57,Plan1!B57,Plan1!C57,Plan1!D57,Plan1!E57) -> TRANSP.ESCOLAR PARC02-CAMPO ERÊ | V58: TRANSPES
A59: 45001 | B59: 44664 | C59: 17899133 | D59: 30871442000174 | E59: 2 | F59: 0 | G59: 0 | H59: 0 | I59: 45001 | J59: 011567 | K59: 0131000000 | L59: 33423926 | M59: 1 | N59: 59 | O59: 100 | P59: 0 | Q59: SED000000053319/2022 | R59: 1 | S59: 6858 | T59: 393053 | U59: =CONCATENATE(Plan1!A58,Plan1!B58,Plan1!C58,Plan1!D58,Plan1!E58) -> TRANSP.ESCOLAR PARC02-CAMPOS NOVOS | V59: TRANSPES
A60: 45001 | B60: 44664 | C60: 5737833 | D60: 31125820000133 | E60: 2 | F60: 0 | G60: 0 | H60: 0 | I60: 45001 | J60: 011567 | K60: 0131000000 | L60: 33423926 | M60: 1 | N60: 59 | O60: 100 | P60: 0 | Q60: SED000000053319/2022 | R60: 1 | S60: 53856 | T60: 74918 | U60: =CONCATENATE(Plan1!A59,Plan1!B59,Plan1!C59,Plan1!D59,Plan1!E59) -> TRANSP.ESCOLAR PARC02-CANELINHA | V60: TRANSPES
A61: 45001 | B61: 44664 | C61: 11440355 | D61: 30436110000161 | E61: 2 | F61: 0 | G61: 0 | H61: 0 | I61: 45001 | J61: 011567 | K61: 0131000000 | L61: 33423926 | M61: 1 | N61: 59 | O61: 100 | P61: 0 | Q61: SED000000053319/2022 | R61: 1 | S61: 3433 | T61: 343927 | U61: =CONCATENATE(Plan1!A60,Plan1!B60,Plan1!C60,Plan1!D60,Plan1!E60) -> TRANSP.ESCOLAR PARC02-CANOINHAS | V61: TRANSPES
A62: 45001 | B62: 44664 | C62: 880033 | D62: 6078160000130 | E62: 2 | F62: 0 | G62: 0 | H62: 0 | I62: 45001 | J62: 011567 | K62: 0131000000 | L62: 33423926 | M62: 1 | N62: 59 | O62: 100 | P62: 0 | Q62: SED000000053319/2022 | R62: 1 | S62: 52159 | T62: 000014262X | U62: =CONCATENATE(Plan1!A61,Plan1!B61,Plan1!C61,Plan1!D61,Plan1!E61) -> TRANSP.ESCOLAR PARC02-CAPAO ALTO | V62: TRANSPES
A63: 45001 | B63: 44664 | C63: 7391711 | D63: 30671083000101 | E63: 2 | F63: 0 | G63: 0 | H63: 0 | I63: 45001 | J63: 011567 | K63: 0131000000 | L63: 33423926 | M63: 1 | N63: 59 | O63: 100 | P63: 0 | Q63: SED000000053319/2022 | R63: 1 | S63: 6440 | T63: 495727 | U63: =CONCATENATE(Plan1!A62,Plan1!B62,Plan1!C62,Plan1!D62,Plan1!E62) -> TRANSP.ESCOLAR PARC02-CAPINZAL | V63: TRANSPES
A64: 45001 | B64: 44664 | C64: 3913711 | D64: 30555511000130 | E64: 2 | F64: 0 | G64: 0 | H64: 0 | I64: 45001 | J64: 011567 | K64: 0131000000 | L64: 33423926 | M64: 1 | N64: 59 | O64: 100 | P64: 0 | Q64: SED000000053319/2022 | R64: 1 | S64: 17604 | T64: 158321 | U64: =CONCATENATE(Plan1!A63,Plan1!B63,Plan1!C63,Plan1!D63,Plan1!E63) -> TRANSP.ESCOLAR PARC02-CATANDUVAS | V64: TRANSPES
A65: 45001 | B65: 44664 | C65: 3157577 | D65: 83021816000200 | E65: 2 | F65: 0 | G65: 0 | H65: 0 | I65: 45001 | J65: 011567 | K65: 0131000000 | L65: 33423926 | M65: 1 | N65: 59 | O65: 100 | P65: 0 | Q65: SED000000053319/2022 | R65: 1 | S65: 53023 | T65: 82708 | U65: =CONCATENATE(Plan1!A64,Plan1!B64,Plan1!C64,Plan1!D64,Plan1!E64) -> TRANSP.ESCOLAR PARC02-CAXAMBU DO SUL | V65: TRANSPES
A66: 45001 | B66: 44664 | C66: 531600 | D66: 32810444000189 | E66: 2 | F66: 0 | G66: 0 | H66: 0 | I66: 45001 | J66: 011567 | K66: 0131000000 | L66: 33423926 | M66: 1 | N66: 59 | O66: 100 | P66: 0 | Q66: SED000000053319/2022 | R66: 1 | S66: 6858 | T66: 1403109 | U66: =CONCATENATE(Plan1!A65,Plan1!B65,Plan1!C65,Plan1!D65,Plan1!E65) -> TRANSP.ESCOLAR PARC02-CELSO RAMOS | V66: TRANSPES
A67: 45001 | B67: 44664 | C67: 5084200 | D67: 31158539000105 | E67: 2 | F67: 0 | G67: 0 | H67: 0 | I67: 45001 | J67: 011567 | K67: 0131000000 | L67: 33423926 | M67: 1 | N67: 59 | O67: 100 | P67: 0 | Q67: SED000000053319/2022 | R67: 1 | S67: 17167 | T67: 117021 | U67: =CONCATENATE(Plan1!A66,Plan1!B66,Plan1!C66,Plan1!D66,Plan1!E66) -> TRANSP.ESCOLAR PARC02-CERRO NEGRO | V67: TRANSPES
A68: 45001 | B68: 44664 | C68: 2378100 | D68: 30745893000165 | E68: 2 | F68: 0 | G68: 0 | H68: 0 | I68: 45001 | J68: 011567 | K68: 0131000000 | L68: 33423926 | M68: 1 | N68: 59 | O68: 100 | P68: 0 | Q68: SED000000053319/2022 | R68: 1 | S68: 13897 | T68: 284866 | U68: =CONCATENATE(Plan1!A67,Plan1!B67,Plan1!C67,Plan1!D67,Plan1!E67) -> TRANSP.ESCOLAR PARC02-CHAPADAO DO LAGEADO | V68: TRANSPES
A69: 45001 | B69: 44664 | C69: 15739950 | D69: 83021808000263 | E69: 2 | F69: 0 | G69: 0 | H69: 0 | I69: 45001 | J69: 011567 | K69: 0131000000 | L69: 33423926 | M69: 1 | N69: 59 | O69: 100 | P69: 0 | Q69: SED000000053319/2022 | R69: 1 | S69: 3212 | T69: 1005294 | U69: =CONCATENATE(Plan1!A68,Plan1!B68,Plan1!C68,Plan1!D68,Plan1!E68) -> TRANSP.ESCOLAR PARC02-CHAPECO | V69: TRANSPES
A70: 45001 | B70: 44664 | C70: 2208200 | D70: 30842377000159 | E70: 2 | F70: 0 | G70: 0 | H70: 0 | I70: 45001 | J70: 011567 | K70: 0131000000 | L70: 33423926 | M70: 1 | N70: 59 | O70: 100 | P70: 0 | Q70: SED000000053319/2022 | R70: 1 | S70: 30724 | T70: 000017064X | U70: =CONCATENATE(Plan1!A69,Plan1!B69,Plan1!C69,Plan1!D69,Plan1!E69) -> TRANSP.ESCOLAR PARC02-COCAL DO SUL | V70: TRANSPES
A71: 45001 | B71: 44664 | C71: 19039066 | D71: 83024257000291 | E71: 2 | F71: 0 | G71: 0 | H71: 0 | I71: 45001 | J71: 011567 | K71: 0131000000 | L71: 33423926 | M71: 1 | N71: 59 | O71: 100 | P71: 0 | Q71: SED000000053319/2022 | R71: 1 | S71: 4103 | T71: 663085 | U71: =CONCATENATE(Plan1!A70,Plan1!B70,Plan1!C70,Plan1!D70,Plan1!E70) -> TRANSP.ESCOLAR PARC02-CONCÓRDIA | V71: TRANSPES
A72: 45001 | B72: 44664 | C72: 2024400 | D72: 95990198000295 | E72: 2 | F72: 0 | G72: 0 | H72: 0 | I72: 45001 | J72: 011567 | K72: 0131000000 | L72: 33423926 | M72: 1 | N72: 59 | O72: 100 | P72: 0 | Q72: SED000000053319/2022 | R72: 1 | S72: 3212 | T72: 2094274 | U72: =CONCATENATE(Plan1!A71,Plan1!B71,Plan1!C71,Plan1!D71,Plan1!E71) -> TRANSP.ESCOLAR PARC02-CORDILHEIRA ALTA | V72: TRANSPES
A73: 45001 | B73: 44664 | C73: 3590788 | D73: 83021824000256 | E73: 2 | F73: 0 | G73: 0 | H73: 0 | I73: 45001 | J73: 011567 | K73: 0131000000 | L73: 33423926 | M73: 1 | N73: 59 | O73: 100 | P73: 0 | Q73: SED000000053319/2022 | R73: 1 | S73: 20060 | T73: 178543 | U73: =CONCATENATE(Plan1!A72,Plan1!B72,Plan1!C72,Plan1!D72,Plan1!E72) -> TRANSP.ESCOLAR PARC02-CORONEL FREITAS | V73: TRANSPES
A74: 45001 | B74: 44664 | C74: 452633 | D74: 95993093000290 | E74: 2 | F74: 0 | G74: 0 | H74: 0 | I74: 45001 | J74: 011567 | K74: 0131000000 | L74: 33423926 | M74: 1 | N74: 59 | O74: 100 | P74: 0 | Q74: SED000000053319/2022 | R74: 1 | S74: 26131 | T74: 245852 | U74: =CONCATENATE(Plan1!A73,Plan1!B73,Plan1!C73,Plan1!D73,Plan1!E73) -> TRANSP.ESCOLAR PARC02-CORONEL MARTINS | V74: TRANSPES
A75: 45001 | B75: 44664 | C75: 1639400 | D75: 30958596000106 | E75: 2 | F75: 0 | G75: 0 | H75: 0 | I75: 45001 | J75: 011567 | K75: 0131000000 | L75: 33423926 | M75: 1 | N75: 59 | O75: 100 | P75: 0 | Q75: SED000000053319/2022 | R75: 1 | S75: 53759 | T75: 95281 | U75: =CONCATENATE(Plan1!A74,Plan1!B74,Plan1!C74,Plan1!D74,Plan1!E74) -> TRANSP.ESCOLAR PARC02-CORREIA PINTO | V75: TRANSPES
A76: 45001 | B76: 44664 | C76: 5751688 | D76: 30006010000103 | E76: 2 | F76: 0 | G76: 0 | H76: 0 | I76: 45001 | J76: 011567 | K76: 0131000000 | L76: 33423926 | M76: 1 | N76: 59 | O76: 100 | P76: 0 | Q76: SED000000053319/2022 | R76: 1 | S76: 20117 | T76: 142514 | U76: =CONCATENATE(Plan1!A75,Plan1!B75,Plan1!C75,Plan1!D75,Plan1!E75) -> TRANSP.ESCOLAR PARC02-CORUPA | V76: TRANSPES
A77: 45001 | B77: 44664 | C77: 38793677 | D77: 30388660000152 | E77: 2 | F77: 0 | G77: 0 | H77: 0 | I77: 45001 | J77: 011567 | K77: 0131000000 | L77: 33423926 | M77: 1 | N77: 59 | O77: 100 | P77: 0 | Q77: SED000000053319/2022 | R77: 1 | S77: 32263 | T77: 206830 | U77: =CONCATENATE(Plan1!A76,Plan1!B76,Plan1!C76,Plan1!D76,Plan1!E76) -> TRANSP.ESCOLAR PARC02-CRICIUMA | V77: TRANSPES
A78: 45001 | B78: 44664 | C78: 3429882 | D78: 30835308000118 | E78: 2 | F78: 0 | G78: 0 | H78: 0 | I78: 45001 | J78: 011567 | K78: 0131000000 | L78: 33423926 | M78: 1 | N78: 59 | O78: 100 | P78: 0 | Q78: SED000000053319/2022 | R78: 1 | S78: 13846 | T78: 150991 | U78: =CONCATENATE(Plan1!A77,Plan1!B77,Plan1!C77,Plan1!D77,Plan1!E77) -> TRANSP.ESCOLAR PARC02-CUNHA PORA | V78: TRANSPES
A79: 45001 | B79: 44664 | C79: 1334838 | D79: 30745339000188 | E79: 2 | F79: 0 | G79: 0 | H79: 0 | I79: 45001 | J79: 011567 | K79: 0131000000 | L79: 33423926 | M79: 1 | N79: 59 | O79: 100 | P79: 0 | Q79: SED000000053319/2022 | R79: 1 | S79: 52795 | T79: 70556 | U79: =CONCATENATE(Plan1!A78,Plan1!B78,Plan1!C78,Plan1!D78,Plan1!E78) -> TRANSP.ESCOLAR PARC02-CUNHATAI | V79: TRANSPES
A80: 45001 | B80: 44664 | C80: 5403308 | D80: 30283479000181 | E80: 2 | F80: 0 | G80: 0 | H80: 0 | I80: 45001 | J80: 011567 | K80: 0131000000 | L80: 33423926 | M80: 1 | N80: 59 | O80: 100 | P80: 0 | Q80: SED000000053319/2022 | R80: 1 | S80: 5177 | T80: 419133 | U80: =CONCATENATE(Plan1!A79,Plan1!B79,Plan1!C79,Plan1!D79,Plan1!E79) -> TRANSP.ESCOLAR PARC02-CURITIBANOS | V80: TRANSPES
A81: 45001 | B81: 44664 | C81: 3301555 | D81: 30828654000179 | E81: 2 | F81: 0 | G81: 0 | H81: 0 | I81: 45001 | J81: 011567 | K81: 0131000000 | L81: 33423926 | M81: 1 | N81: 59 | O81: 100 | P81: 0 | Q81: SED000000053319/2022 | R81: 1 | S81: 13854 | T81: 165433 | U81: =CONCATENATE(Plan1!A80,Plan1!B80,Plan1!C80,Plan1!D80,Plan1!E80) -> TRANSP.ESCOLAR PARC02-DESCANSO | V81: TRANSPES
A82: 45001 | B82: 44664 | C82: 10230637 | D82: 83026773000255 | E82: 2 | F82: 0 | G82: 0 | H82: 0 | I82: 45001 | J82: 011567 | K82: 0131000000 | L82: 33423926 | M82: 1 | N82: 59 | O82: 100 | P82: 0 | Q82: SED000000053319/2022 | R82: 1 | S82: 10553 | T82: 260797 | U82: =CONCATENATE(Plan1!A81,Plan1!B81,Plan1!C81,Plan1!D81,Plan1!E81) -> TRANSP.ESCOLAR PARC02-DIONISIO CERQUEIRA | V82: TRANSPES
... A88: 45001 | B88: 44664 | C88: 3445339 | D88: 30830556000176 | E88: 2 | F88: 0 | G88: 0 | H88: 0 | I88: 45001 | J88: 011567 | K88: 0131000000 | L88: 33423926 | M88: 1 | N88: 59 | O88: 100 | P88: 0 | Q88: SED000000053319/2022 | R88: 1 | S88: 46027 | T88: 165743 | U88: =CONCATENATE(Plan1!A87,Plan1!B87,Plan1!C87,Plan1!D87,Plan1!E87) -> TRANSP.ESCOLAR PARC02-FAXINAL DOS GUEDES | V88: TRANSPES
A89: 45001 | B89: 44664 | C89: 1561511 | D89: 1566621000280 | E89: 2 | F89: 0 | G89: 0 | H89: 0 | I89: 45001 | J89: 011567 | K89: 0131000000 | L89: 33423926 | M89: 1 | N89: 59 | O89: 100 | P89: 0 | Q89: SED000000053319/2022 | R89: 1 | S89: 8583 | T89: 000032888X | U89: =CONCATENATE(Plan1!A88,Plan1!B88,Plan1!C88,Plan1!D88,Plan1!E88) -> TRANSP.ESCOLAR PARC02-FLOR DO SERTAO | V89: TRANSPES
A90: 45001 | B90: 44664 | C90: 834933 | D90: 80637424000281 | E90: 2 | F90: 0 | G90: 0 | H90: 0 | I90: 45001 | J90: 011567 | K90: 0131000000 | L90: 33423926 | M90: 1 | N90: 59 | O90: 100 | P90: 0 | Q90: SED000000053319/2022 | R90: 1 | S90: 13935 | T90: 343226 | U90: =CONCATENATE(Plan1!A89,Plan1!B89,Plan1!C89,Plan1!D89,Plan1!E89) -> TRANSP.ESCOLAR PARC02-FORMOSA DO SUL | V90: TRANSPES
A91: 45001 | B91: 44664 | C91: 11430855 | D91: 6080769000143 | E91: 2 | F91: 0 | G91: 0 | H91: 0 | I91: 45001 | J91: 011567 | K91: 0131000000 | L91: 33423926 | M91: 1 | N91: 59 | O91: 100 | P91: 0 | Q91: SED000000053319/2022 | R91: 1 | S91: 36722 | T91: 317241 | U91: =CONCATENATE(Plan1!A90,Plan1!B90,Plan1!C90,Plan1!D90,Plan1!E90) -> TRANSP.ESCOLAR PARC02-FORQUILHINHA | V91: TRANSPES
A92: 45001 | B92: 44664 | C92: 7217177 | D92: 82947979000336 | E92: 2 | F92: 0 | G92: 0 | H92: 0 | I92: 45001 | J92: 011567 | K92: 0131000000 | L92: 33423926 | M92: 1 | N92: 59 | O92: 100 | P92: 0 | Q92: SED000000053319/2022 | R92: 1 | S92: 13870 | T92: 259403 | U92: =CONCATENATE(Plan1!A91,Plan1!B91,Plan1!C91,Plan1!D91,Plan1!E91) -> TRANSP.ESCOLAR PARC02-FRAIBURGO | V92: TRANSPES
A93: 45001 | B93: 44664 | C93: 4212400 | D93: 31032064000106 | E93: 2 | F93: 0 | G93: 0 | H93: 0 | I93: 45001 | J93: 011567 | K93: 0131000000 | L93: 33423926 | M93: 1 | N93: 59 | O93: 100 | P93: 0 | Q93: SED000000053319/2022 | R93: 1 | S93: 5177 | T93: 422320 | U93: =CONCATENATE(Plan1!A92,Plan1!B92,Plan1!C92,Plan1!D92,Plan1!E92) -> TRANSP.ESCOLAR PARC02-FREI ROGERIO | V93: TRANSPES
A94: 45001 | B94: 44664 | C94: 1136066 | D94: 83009902000205 | E94: 2 | F94: 0 | G94: 0 | H94: 0 | I94: 45001 | J94: 011567 | K94: 0131000000 | L94: 33423926 | M94: 1 | N94: 59 | O94: 100 | P94: 0 | Q94: SED000000053319/2022 | R94: 1 | S94: 54135 | T94: 65331 | U94: =CONCATENATE(Plan1!A93,Plan1!B93,Plan1!C93,Plan1!D93,Plan1!E93) -> TRANSP.ESCOLAR PARC02-GALVAO | V94: TRANSPES
A95: 45001 | B95: 44664 | C95: 16564822 | D95: 30955186000101 | E95: 2 | F95: 0 | G95: 0 | H95: 0 | I95: 45001 | J95: 011567 | K95: 0131000000 | L95: 33423926 | M95: 1 | N95: 59 | O95: 100 | P95: 0 | Q95: SED000000053319/2022 | R95: 1 | S95: 36749 | T95: 235245 | U95: =CONCATENATE(Plan1!A94,Plan1!B94,Plan1!C94,Plan1!D94,Plan1!E94) -> TRANSP.ESCOLAR PARC02- GAROPABA | V95: TRANSPES
A96: 45001 | B96: 44664 | C96: 5559511 | D96: 30524703000180 | E96: 2 | F96: 0 | G96: 0 | H96: 0 | I96: 45001 | J96: 011567 | K96: 0131000000 | L96: 33423926 | M96: 1 | N96: 59 | O96: 100 | P96: 0 | Q96: SED000000053319/2022 | R96: 1 | S96: 46485 | T96: 145246 | U96: =CONCATENATE(Plan1!A95,Plan1!B95,Plan1!C95,Plan1!D95,Plan1!E95) -> TRANSP.ESCOLAR PARC02-GARUVA | V96: TRANSPES
A97: 45001 | B97: 44664 | C97: 11906800 | D97: 30429835000122 | E97: 2 | F97: 0 | G97: 0 | H97: 0 | I97: 45001 | J97: 011567 | K97: 0131000000 | L97: 33423926 | M97: 1 | N97: 59 | O97: 100 | P97: 0 | Q97: SED000000053319/2022 | R97: 1 | S97: 9210 | T97: 376361 | U97: =CONCATENATE(Plan1!A96,Plan1!B96,Plan1!C96,Plan1!D96,Plan1!E96) -> TRANSP.ESCOLAR PARC02-GASPAR | V97: TRANSPES
A98: 45001 | B98: 44664 | C98: 3011755 | D98: 31050318000100 | E98: 2 | F98: 0 | G98: 0 | H98: 0 | I98: 45001 | J98: 011567 | K98: 0131000000 | L98: 33423926 | M98: 1 | N98: 59 | O98: 100 | P98: 0 | Q98: SED000000053319/2022 | R98: 1 | S98: 54143 | T98: 559997 | U98: =CONCATENATE(Plan1!A97,Plan1!B97,Plan1!C97,Plan1!D97,Plan1!E97) -> TRANSP.ESCOLAR PARC02-GOVERNADOR CELSO RAMOS | V98: TRANSPES
A99: 45001 | B99: 44664 | C99: 5052260 | D99: 31049528000189 | E99: 2 | F99: 0 | G99: 0 | H99: 0 | I99: 45001 | J99: 011567 | K99: 0131000000 | L99: 33423926 | M99: 1 | N99: 59 | O99: 100 | P99: 0 | Q99: SED000000053319/2022 | R99: 1 | S99: 54003 | T99: 74616 | U99: TRANSP.ESCOALR PARC01-GRÃO PARÁ | V99: TRANSPES
A100: 45001 | B100: 44664 | C100: 7215211 | D100: 6083217000199 | E100: 2 | F100: 0 | G100: 0 | H100: 0 | I100: 45001 | J100: 011567 | K100: 0131000000 | L100: 33423926 | M100: 1 | N100: 59 | O100: 100 | P100: 0 | Q100: SED000000053319/2022 | R100: 1 | S100: 20893 | T100: 176672 | U100: TRANSP.ESCOLAR PARC01-GRAVATAL | V100: TRANSPES
A101: 45001 | B101: 44664 | C101: 9118500 | D101: 6078939000155 | E101: 2 | F101: 0 | G101: 0 | H101: 0 | I101: 45001 | J101: 011567 | K101: 0131000000 | L101: 33423926 | M101: 1 | N101: 59 | O101: 100 | P101: 0 | Q101: SED000000053319/2022 | R101: 1 | S101: 54097 | T101: 96687 | U101: =CONCATENATE(Plan1!A100,Plan1!B100,Plan1!C100,Plan1!D100,Plan1!E100) -> TRANSP.ESCOLAR PARC02-GUABIRUBA | V101: TRANSPES
A102: 45001 | B102: 44664 | C102: 2878911 | D102: 82821216000344 | E102: 2 | F102: 0 | G102: 0 | H102: 0 | I102: 45001 | J102: 011567 | K102: 0131000000 | L102: 33423926 | M102: 1 | N102: 59 | O102: 100 | P102: 0 | Q102: SED000000053319/2022 | R102: 1 | S102: 13889 | T102: 180157 | U102: =CONCATENATE(Plan1!A101,Plan1!B101,Plan1!C101,Plan1!D101,Plan1!E101) -> TRANSP.ESCOLAR PARC02-GUARACIABA | V102: TRANSPES
A103: 45001 | B103: 44664 | C103: 21382744 | D103: 30880614000176 | E103: 2 | F103: 0 | G103: 0 | H103: 0 | I103: 45001 | J103: 011567 | K103: 0131000000 | L103: 33423926 | M103: 1 | N103: 59 | O103: 100 | P103: 0 | Q103: SED000000053319/2022 | R103: 1 | S103: 20958 | T103: 316849 | U103: =CONCATENATE(Plan1!A102,Plan1!B102,Plan1!C102,Plan1!D102,Plan1!E102) -> TRANSP.ESCOLAR PARC02-GUARAMIRIM | V103: TRANSPES
A104: 45001 | B104: 44664 | C104: 385655 | D104: 83027045000268 | E104: 2 | F104: 0 | G104: 0 | H104: 0 | I104: 45001 | J104: 011567 | K104: 0131000000 | L104: 33423926 | M104: 1 | N104: 59 | O104: 100 | P104: 0 | Q104: SED000000053319/2022 | R104: 1 | S104: 53988 | T104: 68802 | U104: =CONCATENATE(Plan1!A103,Plan1!B103,Plan1!C103,Plan1!D103,Plan1!E103) -> TRANSP.ESCOLAR PARC02-GUARUJÁ DO SUL | V104: TRANSPES
A105: 45001 | B105: 44664 | C105: 5707700 | D105: 95990206000201 | E105: 2 | F105: 0 | G105: 0 | H105: 0 | I105: 45001 | J105: 011567 | K105: 0131000000 | L105: 33423926 | M105: 1 | N105: 59 | O105: 100 | P105: 0 | Q105: SED000000053319/2022 | R105: 1 | S105: 35424 | T105: 280968 | U105: =CONCATENATE(Plan1!A104,Plan1!B104,Plan1!C104,Plan1!D104,Plan1!E104) -> TRANSP.ESCOLAR PARC02-GUATAMBU | V105: TRANSPES
A106: 45001 | B106: 44664 | C106: 1549622 | D106: 30747201000118 | E106: 2 | F106: 0 | G106: 0 | H106: 0 | I106: 45001 | J106: 011567 | K106: 0131000000 | L106: 33423926 | M106: 1 | N106: 59 | O106: 100 | P106: 0 | Q106: SED000000053319/2022 | R106: 1 | S106: 21032 | T106: 290009 | U106: =CONCATENATE(Plan1!A105,Plan1!B105,Plan1!C105,Plan1!D105,Plan1!E105) -> TRANSP.ESCOLAR PARC02-HERVAL D'OESTE | V106: TRANSPES
A107: 45001 | B107: 44664 | C107: 1213977 | D107: 1612745000255 | E107: 2 | F107: 0 | G107: 0 | H107: 0 | I107: 45001 | J107: 011567 | K107: 0131000000 | L107: 33423926 | M107: 1 | N107: 59 | O107: 100 | P107: 0 | Q107: SED000000053319/2022 | R107: 1 | S107: 7374 | T107: 227552 | U107: =CONCATENATE(Plan1!A106,Plan1!B106,Plan1!C106,Plan1!D106,Plan1!E106) -> TRANSP.ESCOLAR PARC02-IBIAM | V107: TRANSPES
A108: 45001 | B108: 44664 | C108: 1854844 | D108: 30871437000161 | E108: 2 | F108: 0 | G108: 0 | H108: 0 | I108: 45001 | J108: 011567 | K108: 0131000000 | L108: 33423926 | M108: 1 | N108: 59 | O108: 100 | P108: 0 | Q108: SED000000053319/2022 | R108: 1 | S108: 53589 | T108: 67407 | U108: =CONCATENATE(Plan1!A107,Plan1!B107,Plan1!C107,Plan1!D107,Plan1!E107) -> TRANSP.ESCOLAR PARC02-IBICARÉ | V108: TRANSPES
...

Sheet Plan1
A1: TRANSP. | B1: ESCOLAR | C1: PARC | D1: 02 | E1: -ARARANGUA
A2: TRANSP. | B2: ESCOLAR | C2: PARC | D2: 02 | E2: -ABDON BATISTA
A3: TRANSP. | B3: ESCOLAR | C3: PARC | D3: 02 | E3: -ABELARDO LUZ
A4: TRANSP. | B4: ESCOLAR | C4: PARC | D4: 02 | E4: -AGROLANDIA
A5: TRANSP. | B5: ESCOLAR | C5: PARC | D5: 02 | E5: -AGRONÔMICA
A6: TRANSP. | B6: ESCOLAR | C6: PARC | D6: 02 | E6: -AGUA DOCE
A7: TRANSP. | B7: ESCOLAR | C7: PARC | D7: 02 | E7: -AGUAS DE CHAPECO
A8: TRANSP. | B8: ESCOLAR | C8: PARC | D8: 02 | E8: -AGUAS FRIAS
A9: TRANSP. | B9: ESCOLAR | C9: PARC | D9: 02 | E9: -ÁGUAS MORNAS
A10: TRANSP. | B10: ESCOLAR | C10: PARC | D10: 02 | E10: -ALFREDO WAGNER
A11: TRANSP. | B11: ESCOLAR | C11: PARC | D11: 02 | E11: -ALTO BELA VISTA
A12: TRANSP. | B12: ESCOLAR | C12: PARC | D12: 02 | E12: -ANCHIETA
... A288: TRANSP. | B288: ESCOLAR | C288: PARC | D288: 02 | E288: -ZORTEA

Sheet Plan2
