Workbook

Sheet te20190301001
A1: UG | B1: DATA | C1: VALOR | D1: CNPJCREDOR | E1: TIPO | F1: UNIDADEGESTORADC | G1: GESTAODC | H1: DC | I1: UO | J1: SUBACAO | K1: FONTE | L1: NATUREZA | M1: MODALIDADE | N1: INSTRUMENTO | O1: UOCOMPLEMENTO | P1: CENTRALIZADO | Q1: PROCESSO | R1: BANCO | S1: AGENCIA | T1: CONTA | U1: HISTÓRICO | V1: ORIGEM
A2: 45001 | B2: 44664 | C2: 13140455 | D2: 31013586000152 | E2: 2 | F2: 0 | G2: 0 | H2: 0 | I2: 45001 | J2: 011567 | K2: 0131000000 | L2: 33423926 | M2: 1 | N2: 59 | O2: 100 | P2: 0 | Q2: SED000000053319/2022 | R2: 1 | S2: 5401 | T2: 000041851X | U2: =CONCATENATE(Plan1!A1,Plan1!B1,Plan1!C1,Plan1!D1,Plan1!E1) -> TRANSP.ESCOLAR PARC02-ARARANGUA | V2: TRANSPES
A3: 45001 | B3: 44664 | C3: 3431300 | D3: 31019089000161 | E3: 2 | F3: 0 | G3: 0 | H3: 0 | I3: 45001 | J3: 011567 | K3: 0131000000 | L3: 33423926 | M3: 1 | N3: 59 | O3: 100 | P3: 0 | Q3: SED000000053319/2022 | R3: 1 | S3: 005433X | T3: 99740 | U3: =CONCATENATE(Plan1!A2,Plan1!B2,Plan1!C2,Plan1!D2,Plan1!E2) -> TRANSP.ESCOLAR PARC02-ABDON BATISTA | V3: TRANSPES
A4: 45001 | B4: 44664 | C4: 14461298 | D4: 83009886000242 | E4: 2 | F4: 0 | G4: 0 | H4: 0 | I4: 45001 | J4: 011567 | K4: 0131000000 | L4: 33423926 | M4: 1 | N4: 59 | O4: 100 | P4: 0 | Q4: SED000000053319/2022 | R4: 1 | S4: 001382X | T4: 297119 | U4: =CONCATENATE(Plan1!A3,Plan1!B3,Plan1!C3,Plan1!D3,Plan1!E3) -> TRANSP.ESCOLAR PARC02-ABELARDO LUZ | V4: TRANSPES
A5: 45001 | B5: 44664 | C5: 4891688 | D5: 31394690000134 | E5: 2 | F5: 0 | G5: 0 | H5: 0 | I5: 45001 | J5: 011567 | K5: 0131000000 | L5: 33423926 | M5: 1 | N5: 59 | O5: 100 | P5: 0 | Q5: SED000000053319/2022 | R5: 1 | S5: 36331 | T5: 162361 | U5: =CONCATENATE(Plan1!A4,Plan1!B4,Plan1!C4,Plan1!D4,Plan1!E4) -> TRANSP.ESCOLAR PARC02-AGROLANDIA | V5: TRANSPES
A6: 45001 | B6: 44664 | C6: 4345855 | D6: 83102590000190 | E6: 2 | F6: 0 | G6: 0 | H6: 0 | I6: 45001 | J6: 011567 | K6: 0131000000 | L6: 33423926 | M6: 1 | N6: 59 | O6: 100 | P6: 0 | Q6: SED000000053319/2022 | R6: 1 | S6: 54046 | T6: 325368 | U6: =CONCATENATE(Plan1!A5,Plan1!B5,Plan1!C5,Plan1!D5,Plan1!E5) -> TRANSP.ESCOLAR PARC02-AGRONÔMICA | V6: TRANSPES
A7: 45001 | B7: 44664 | C7: 3009622 | D7: 30950470000187 | E7: 2 | F7: 0 | G7: 0 | H7: 0 | I7: 45001 | J7: 011567 | K7: 0131000000 | L7: 33423926 | M7: 1 | N7: 59 | O7: 100 | P7: 0 | Q7: SED000000053319/2022 | R7: 1 | S7: 2070 | T7: 120758 | U7: =CONCATENATE(Plan1!A6,Plan1!B6,Plan1!C6,Plan1!D6,Plan1!E6) -> TRANSP.ESCOLAR PARC02-AGUA DOCE | V7: TRANSPES
A8: 45001 | B8: 44664 | C8: 6477611 | D8: 30378794000192 | E8: 2 | F8: 0 | G8: 0 | H8: 0 | I8: 45001 | J8: 011567 | K8: 0131000000 | L8: 33423926 | M8: 1 | N8: 59 | O8: 100 | P8: 0 | Q8: SED000000053319/2022 | R8: 1 | S8: 004542X | T8: 000012592X | U8: TRANSP.ESCOLAR PARC01-ÁGUAS DE CHAPECÓ | V8: TRANSPES
A9: 45001 | B9: 44664 | C9: 1492066 | D9: 95990180000293 | E9: 2 | F9: 0 | G9: 0 | H9: 0 | I9: 45001 | J9: 011567 | K9: 0131000000 | L9: 33423926 | M9: 1 | N9: 59 | O9: 100 | P9: 0 | Q9: SED000000053319/2022 | R9: 1 | S9: 53953 | T9: 94579 | U9: =CONCATENATE(Plan1!A8,Plan1!B8,Plan1!C8,Plan1!D8,Plan1!E8) -> TRANSP.ESCOLAR PARC02-AGUAS FRIAS | V9: TRANSPES
A10: 45001 | B10: 44664 | C10: 4169265 | D10: 31010656000119 | E10: 2 | F10: 0 | G10: 0 | H10: 0 | I10: 45001 | J10: 011567 | K10: 0131000000 | L10: 33423926 | M10: 1 | N10: 59 | O10: 100 | P10: 0 | Q10: SED000000053319/2022 | R10: 1 | S10: 53481 | T10: 77518 | U10: =CONCATENATE(Plan1!A9,Plan1!B9,Plan1!C9,Plan1!D9,Plan1!E9) -> TRANSP.ESCOLAR PARC02-ÁGUAS MORNAS | V10: TRANSPES
A11: 45001 | B11: 44664 | C11: 16597096 | D11: 31029003000181 | E11: 2 | F11: 0 | G11: 0 | H11: 0 | I11: 45001 | J11: 011567 | K11: 0131000000 | L11: 33423926 | M11: 1 | N11: 59 | O11: 100 | P11: 0 | Q11: SED000000053319/2022 | R11: 1 | S11: 13838 | T11: 152781 | U11: =CONCATENATE(Plan1!A10,Plan1!B10,Plan1!C10,Plan1!D10,Plan1!E10) -> TRANSP.ESCOLAR PARC02-ALFREDO WAGNER | V11: TRANSPES
A12: 45001 | B12: 44664 | C12: 1055633 | D12: 31043591000108 | E12: 2 | F12: 0 | G12: 0 | H12: 0 | I12: 45001 | J12: 011567 | K12: 0131000000 | L12: 33423926 | M12: 1 | N12: 59 | O12: 100 | P12: 0 | Q12: SED000000053319/2022 | R12: 1 | S12: 53554 | T12: 64777 | U12: =CONCATENATE(Plan1!A11,Plan1!B11,Plan1!C11,Plan1!D11,Plan1!E11) -> TRANSP.ESCOLAR PARC02-ALTO BELA VISTA | V12: TRANSPES
A13: 45001 | B13: 44664 | C13: 2610477 | D13: 83024687000203 | E13: 2 | F13: 0 | G13: 0 | H13: 0 | I13: 45001 | J13: 011567 | K13: 0131000000 | L13: 33423926 | M13: 1 | N13: 59 | O13: 100 | P13: 0 | Q13: SED000000053319/2022 | R13: 1 | S13: 14397 | T13: 137952 | U13: =CONCATENATE(Plan1!A12,Plan1!B12,Plan1!C12,Plan1!D12,Plan1!E12) -> TRANSP.ESCOLAR PARC02-ANCHIETA | V13: TRANSPES
A14: 45001 | B14: 44664 | C14: 14007670 | D14: 30774373000180 | E14: 2 | F14: 0 | G14: 0 | H14: 0 | I14: 45001 | J14: 011567 | K14: 0131000000 | L14: 33423926 | M14: 1 | N14: 59 | O14: 100 | P14: 0 | Q14: SED000000053319/2022 | R14: 1 | S14: 52973 | T14: 74500 | U14: =CONCATENATE(Plan1!A13,Plan1!B13,Plan1!C13,Plan1!D13,Plan1!E13) -> TRANSP.ESCOLAR PARC02-ANGELINA | V14: TRANSPES
A15: 45001 | B15: 44664 | C15: 8207466 | D15: 31158499000193 | E15: 2 | F15: 0 | G15: 0 | H15: 0 | I15: 45001 | J15: 011567 | K15: 0131000000 | L15: 33423926 | M15: 1 | N15: 59 | O15: 100 | P15: 0 | Q15: SED000000053319/2022 | R15: 1 | S15: 001446X | T15: 221945 | U15: =CONCATENATE(Plan1!A14,Plan1!B14,Plan1!C14,Plan1!D14,Plan1!E14) -> TRANSP.ESCOLAR PARC02-ANITA GARIBALDI | V15: TRANSPES
A16: 45001 | B16: 44664 | C16: 7241266 | D16: 30918913000152 | E16: 2 | F16: 0 | G16: 0 | H16: 0 | I16: 45001 | J16: 011567 | K16: 0131000000 | L16: 33423926 | M16: 1 | N16: 59 | O16: 100 | P16: 0 | Q16: SED000000053319/2022 | R16: 1 | S16: 53449 | T16: 63096 | U16: =CONCATENATE(Plan1!A15,Plan1!B15,Plan1!C15,Plan1!D15,Plan1!E15) -> TRANSP.ESCOLAR PARC02-ANITAPOLIS | V16: TRANSPES
A17: 45001 | B17: 44664 | C17: 6670300 | D17: 30988862000135 | E17: 2 | F17: 0 | G17: 0 | H17: 0 | I17: 45001 | J17: 011567 | K17: 0131000000 | L17: 33423926 | M17: 1 | N17: 59 | O17: 100 | P17: 0 | Q17: SED000000053319/2022 | R17: 1 | S17: 003634X | T17: 121746 | U17: =CONCATENATE(Plan1!A16,Plan1!B16,Plan1!C16,Plan1!D16,Plan1!E16) -> TRANSP.ESCOLAR PARC02-ANTONIO CARLOS | V17: TRANSPES
A18: 45001 | B18: 44664 | C18: 12483525 | D18: 30949868000101 | E18: 2 | F18: 0 | G18: 0 | H18: 0 | I18: 45001 | J18: 011567 | K18: 0131000000 | L18: 33423926 | M18: 1 | N18: 59 | O18: 100 | P18: 0 | Q18: SED000000053319/2022 | R18: 1 | S18: 54429 | T18: 80845 | U18: =CONCATENATE(Plan1!A17,Plan1!B17,Plan1!C17,Plan1!D17,Plan1!E17) -> TRANSP.ESCOLAR PARC02-APIUNA | V18: TRANSPES
A19: 45001 | B19: 44664 | C19: 2313777 | D19: 30947140000132 | E19: 2 | F19: 0 | G19: 0 | H19: 0 | I19: 45001 | J19: 011567 | K19: 0131000000 | L19: 33423926 | M19: 1 | N19: 59 | O19: 100 | P19: 0 | Q19: SED000000053319/2022 | R19: 1 | S19: 4103 | T19: 661899 | U19: =CONCATENATE(Plan1!A18,Plan1!B18,Plan1!C18,Plan1!D18,Plan1!E18) -> TRANSP.ESCOLAR PARC02-ARABUTA | V19: TRANSPES
A20: 45001 | B20: 44664 | C20: 34051200 | D20: 30333695000194 | E20: 2 | F20: 0 | G20: 0 | H20: 0 | I20: 45001 | J20: 011567 | K20: 0131000000 | L20: 33423926 | M20: 1 | N20: 59 | O20: 100 | P20: 0 | Q20: SED000000053319/2022 | R20: 1 | S20: 14621 | T20: 248096 | U20: =CONCATENATE(Plan1!A19,Plan1!B19,Plan1!C19,Plan1!D19,Plan1!E19) -> TRANSP.ESCOLAR PARC02-ARAQUARI | V20: TRANSPES
A21: 45001 | B21: 44664 | C21: 3866444 | D21: 82928664000180 | E21: 2 | F21: 0 | G21: 0 | H21: 0 | I21: 45001 | J21: 011567 | K21: 0131000000 | L21: 33423926 | M21: 1 | N21: 59 | O21: 100 | P21: 0 | Q21: SED000000053319/2022 | R21: 1 | S21: 46426 | T21: 000006050X | U21: =CONCATENATE(Plan1!A20,Plan1!B20,Plan1!C20,Plan1!D20,Plan1!E20) -> TRANSP.ESCOLAR PARC02-ARMAZÉM | V21: TRANSPES
A22: 45001 | B22: 44664 | C22: 1172000 | D22: 30997915000184 | E22: 2 | F22: 0 | G22: 0 | H22: 0 | I22: 45001 | J22: 011567 | K22: 0131000000 | L22: 33423926 | M22: 1 | N22: 59 | O22: 100 | P22: 0 | Q22: SED000000053319/2022 | R22: 1 | S22: 53228 | T22: 74225 | U22: =CONCATENATE(Plan1!A21,Plan1!B21,Plan1!C21,Plan1!D21,Plan1!E21) -> TRANSP.ESCOLAR PARC02-ARROIO TRINTA | V22: TRANSPES
A23: 45001 | B23: 44664 | C23: 2065088 | D23: 30339305000193 | E23: 2 | F23: 0 | G23: 0 | H23: 0 | I23: 45001 | J23: 011567 | K23: 0131000000 | L23: 33423926 | M23: 1 | N23: 59 | O23: 100 | P23: 0 | Q23: SED000000053319/2022 | R23: 1 | S23: 8753 | T23: 404705 | U23: =CONCATENATE(Plan1!A22,Plan1!B22,Plan1!C22,Plan1!D22,Plan1!E22) -> TRANSP.ESCOLAR PARC02-ARVOREDO | V23: TRANSPES
A24: 45001 | B24: 44664 | C24: 5301333 | D24: 30975406000150 | E24: 2 | F24: 0 | G24: 0 | H24: 0 | I24: 45001 | J24: 011567 | K24: 0131000000 | L24: 33423926 | M24: 1 | N24: 59 | O24: 100 | P24: 0 | Q24: SED000000053319/2022 | R24: 1 | S24: 14788 | T24: 000020210X | U24: =CONCATENATE(Plan1!A23,Plan1!B23,Plan1!C23,Plan1!D23,Plan1!E23) -> TRANSP.ESCOLAR PARC02-ASCURRA | V24: TRANSPES
A25: 45001 | B25: 44664 | C25: 1693066 | D25: 30713026000148 | E25: 2 | F25: 0 | G25: 0 | H25: 0 | I25: 45001 | J25: 011567 | K25: 0131000000 | L25: 33423926 | M25: 1 | N25: 59 | O25: 100 | P25: 0 | Q25: SED000000053319/2022 | R25: 1 | S25: 53104 | T25: 71234 | U25: =CONCATENATE(Plan1!A24,Plan1!B24,Plan1!C24,Plan1!D24,Plan1!E24) -> TRANSP.ESCOLAR PARC02-ATALANTA | V25: TRANSPES
A26: 45001 | B26: 44664 | C26: 6408300 | D26: 30915822000163 | E26: 2 | F26: 0 | G26: 0 | H26: 0 | I26: 45001 | J26: 011567 | K26: 0131000000 | L26: 33423926 | M26: 1 | N26: 59 | O26: 100 | P26: 0 | Q26: SED000000053319/2022 | R26: 1 | S26: 005416X | T26: 000006680X | U26: =CONCATENATE(Plan1!A25,Plan1!B25,Plan1!C25,Plan1!D25,Plan1!E25) -> TRANSP.ESCOLAR PARC02-AURORA | V26: TRANSPES
A27: 45001 | B27: 44664 | C27: 1946877 | D27: 31048525000120 | E27: 2 | F27: 0 | G27: 0 | H27: 0 | I27: 45001 | J27: 011567 | K27: 0131000000 | L27: 33423926 | M27: 1 | N27: 59 | O27: 100 | P27: 0 | Q27: SED000000053319/2022 | R27: 1 | S27: 5401 | T27: 418714 | U27: =CONCATENATE(Plan1!A26,Plan1!B26,Plan1!C26,Plan1!D26,Plan1!E26) -> TRANSP.ESCOLAR PARC02- BALNEARIO ARROIO DO SILVA | V27: TRANSPES
A28: 45001 | B28: 44664 | C28: 6659933 | D28: 30749094000167 | E28: 2 | F28: 0 | G28: 0 | H28: 0 | I28: 45001 | J28: 011567 | K28: 0131000000 | L28: 33423926 | M28: 1 | N28: 59 | O28: 100 | P28: 0 | Q28: SED000000053319/2022 | R28: 1 | S28: 14621 | T28: 247987 | U28: =CONCATENATE(Plan1!A27,Plan1!B27,Plan1!C27,Plan1!D27,Plan1!E27) -> TRANSP.ESCOLAR PARC02-BALNEARIO BARRA DO SUL | V28: TRANSPES
A29: 45001 | B29: 44664 | C29: 3509155 | D29: 30119533000158 | E29: 2 | F29: 0 | G29: 0 | H29: 0 | I29: 45001 | J29: 011567 | K29: 0131000000 | L29: 33423926 | M29: 1 | N29: 59 | O29: 100 | P29: 0 | Q29: SED000000053319/2022 | R29: 1 | S29: 14893 | T29: 991813 | U29: =CONCATENATE(Plan1!A28,Plan1!B28,Plan1!C28,Plan1!D28,Plan1!E28) -> TRANSP.ESCOLAR PARC02-BALNEARIO CAMBORIU | V29: TRANSPES
A30: 45001 | B30: 44664 | C30: 2659911 | D30: 1511659000175 | E30: 2 | F30: 0 | G30: 0 | H30: 0 | I30: 45001 | J30: 011567 | K30: 0131000000 | L30: 33423926 | M30: 1 | N30: 59 | O30: 100 | P30: 0 | Q30: SED000000053319/2022 | R30: 1 | S30: 14109 | T30: 5209331 | U30: =CONCATENATE(Plan1!A29,Plan1!B29,Plan1!C29,Plan1!D29,Plan1!E29) -> TRANSP.ESCOLAR PARC02-BALNEÁRIO GAIVOTA | V30: TRANSPES
A31: 45001 | B31: 44664 | C31: 8632400 | D31: 19572240000199 | E31: 2 | F31: 0 | G31: 0 | H31: 0 | I31: 45001 | J31: 011567 | K31: 0131000000 | L31: 33423926 | M31: 1 | N31: 59 | O31: 100 | P31: 0 | Q31: SED000000053319/2022 | R31: 1 | S31: 32573 | T31: 213985 | U31: =CONCATENATE(Plan1!A30,Plan1!B30,Plan1!C30,Plan1!D30,Plan1!E30) -> TRANSP.ESCOLAR PARC02-BALNEARIO PICARRAS | V31: TRANSPES
A32: 45001 | B32: 44664 | C32: 8973091 | D32: 31174131000119 | E32: 2 | F32: 0 | G32: 0 | H32: 0 | I32: 45001 | J32: 011567 | K32: 0131000000 | L32: 33423926 | M32: 1 | N32: 59 | O32: 100 | P32: 0 | Q32: SED000000053319/2022 | R32: 1 | S32: 21180 | T32: 304980 | U32: =CONCATENATE(Plan1!A31,Plan1!B31,Plan1!C31,Plan1!D31,Plan1!E31) -> TRANSP.ESCOLAR PARC02-BALNEARIO RINCAO | V32: TRANSPES
A33: 45001 | B33: 44664 | C33: 121336 | D33: 1612528000265 | E33: 2 | F33: 0 | G33: 0 | H33: 0 | I33: 45001 | J33: 011567 | K33: 0131000000 | L33: 33423926 | M33: 1 | N33: 59 | O33: 100 | P33: 0 | Q33: SED000000053319/2022 | R33: 1 | S33: 5991 | T33: 533173 | U33: =CONCATENATE(Plan1!A32,Plan1!B32,Plan1!C32,Plan1!D32,Plan1!E32) -> TRANSP.ESCOLAR PARC02-BANDEIRANTE | V33: TRANSPES
A34: 45001 | B34: 44664 | C34: 1327133 | D34: 1612527000130 | E34: 2 | F34: 0 | G34: 0 | H34: 0 | I34: 45001 | J34: 011567 | K34: 0131000000 | L34: 33423926 | M34: 1 | N34: 59 | O34: 100 | P34: 0 | Q34: SED000000053319/2022 | R34: 1 | S34: 5991 | T34: 1281941 | U34: =CONCATENATE(Plan1!A33,Plan1!B33,Plan1!C33,Plan1!D33,Plan1!E33) -> TRANSP.ESCOLAR PARC02-BARRA BONITA | V34: TRANSPES
A35: 45001 | B35: 44664 | C35: 11066456 | D35: 30863569000141 | E35: 2 | F35: 0 | G35: 0 | H35: 0 | I35: 45001 | J35: 011567 | K35: 0131000000 | L35: 33423926 | M35: 1 | N35: 59 | O35: 100 | P35: 0 | Q35: SED000000053319/2022 | R35: 1 | S35: 14982 | T35: 217689 | U35: =CONCATENATE(Plan1!A34,Plan1!B34,Plan1!C34,Plan1!D34,Plan1!E34) -> TRANSP.ESCOLAR PARC02-BARRA VELHA | V35: TRANSPES
A36: 45001 | B36: 44664 | C36: 8195585 | D36: 30637526000148 | E36: 2 | F36: 0 | G36: 0 | H36: 0 | I36: 45001 | J36: 011567 | K36: 0131000000 | L36: 33423926 | M36: 1 | N36: 59 | O36: 100 | P36: 0 | Q36: SED000000053319/2022 | R36: 1 | S36: 3433 | T36: 345458 | U36: =CONCATENATE(Plan1!A35,Plan1!B35,Plan1!C35,Plan1!D35,Plan1!E35) -> TRANSP.ESCOLAR PARC02-BELA VISTA DO TOLDO | V36: TRANSPES
A37: 45001 | B37: 44664 | C37: 1039977 | D37: 80912108000190 | E37: 2 | F37: 0 | G37: 0 | H37: 0 | I37: 45001 | J37: 011567 | K37: 0131000000 | L37: 33423926 | M37: 1 | N37: 59 | O37: 100 | P37: 0 | Q37: SED000000053319/2022 | R37: 1 | S37: 13854 | T37: 112348 | U37: =CONCATENATE(Plan1!A36,Plan1!B36,Plan1!C36,Plan1!D36,Plan1!E36) -> TRANSP.ESCOLAR PARC02-BELMONTE | V37: TRANSPES
A38: 45001 | B38: 44664 | C38: 21128233 | D38: 31002688000172 | E38: 2 | F38: 0 | G38: 0 | H38: 0 | I38: 45001 | J38: 011567 | K38: 0131000000 | L38: 33423926 | M38: 1 | N38: 59 | O38: 100 | P38: 0 | Q38: SED000000053319/2022 | R38: 1 | S38: 28584 | T38: 139440 | U38: =CONCATENATE(Plan1!A37,Plan1!B37,Plan1!C37,Plan1!D37,Plan1!E37) -> TRANSP.ESCOLAR PARC02-BENEDITO NOVO | V38: TRANSPES
... A42: 45001 | B42: 44664 | C42: 10789493 | D42: 31032171000126 | E42: 2 | F42: 0 | G42: 0 | H42: 0 | I42: 45001 | J42: 011567 | K42: 0131000000 | L42: 33423926 | M42: 1 | N42: 59 | O42: 100 | P42: 0 | Q42: SED000000053319/2022 | R42: 1 | S42: 52574 | T42: 69140 | U42: =CONCATENATE(Plan1!A41,Plan1!B41,Plan1!C41,Plan1!D41,Plan1!E41) -> TRANSP.ESCOLAR PARC02-BOM JARDIM DA SERRA | V42: TRANSPES
A43: 45001 | B43: 44664 | C43: 855277 | D43: 1551148000187 | E43: 2 | F43: 0 | G43: 0 | H43: 0 | I43: 45001 | J43: 011567 | K43: 0131000000 | L43: 33423926 | M43: 1 | N43: 59 | O43: 100 | P43: 0 | Q43: SED000000053319/2022 | R43: 1 | S43: 000586X | T43: 1244841 | U43: =CONCATENATE(Plan1!A42,Plan1!B42,Plan1!C42,Plan1!D42,Plan1!E42) -> TRANSP.ESCOLAR PARC02-BOM JESUS | V43: TRANSPES
...

Sheet Plan1
A1: TRANSP. | B1: ESCOLAR | C1: PARC | D1: 02 | E1: -ARARANGUA
A2: TRANSP. | B2: ESCOLAR | C2: PARC | D2: 02 | E2: -ABDON BATISTA
A3: TRANSP. | B3: ESCOLAR | C3: PARC | D3: 02 | E3: -ABELARDO LUZ
A4: TRANSP. | B4: ESCOLAR | C4: PARC | D4: 02 | E4: -AGROLANDIA
A5: TRANSP. | B5: ESCOLAR | C5: PARC | D5: 02 | E5: -AGRONÔMICA
A6: TRANSP. | B6: ESCOLAR | C6: PARC | D6: 02 | E6: -AGUA DOCE
A7: TRANSP. | B7: ESCOLAR | C7: PARC | D7: 02 | E7: -AGUAS DE CHAPECO
A8: TRANSP. | B8: ESCOLAR | C8: PARC | D8: 02 | E8: -AGUAS FRIAS
A9: TRANSP. | B9: ESCOLAR | C9: PARC | D9: 02 | E9: -ÁGUAS MORNAS
A10: TRANSP. | B10: ESCOLAR | C10: PARC | D10: 02 | E10: -ALFREDO WAGNER
A11: TRANSP. | B11: ESCOLAR | C11: PARC | D11: 02 | E11: -ALTO BELA VISTA
A12: TRANSP. | B12: ESCOLAR | C12: PARC | D12: 02 | E12: -ANCHIETA
... A288: TRANSP. | B288: ESCOLAR | C288: PARC | D288: 02 | E288: -ZORTEA

Sheet Plan2
