Workbook

Sheet Escolas
A1: RELAÇÃO DE ESCOLAS E NÚMERO DE ALUNOS
A3: MUNICÍPIO: | C3: XXXXXXXXX
A4: NOME DA ESCOLA | D4: NÚMERO DE ALUNOS
D5: Ens. FUNDAMENTAL | M5: Ens. MÉDIO
D6: URBANA | H6: RURAL | L6: TOTAL FUND. | M6: URBANA | Q6: RURAL | U6: TOTAL MÉDIO
D7: 6 à 12 | E7: 12 à 24 | F7: acim. 24 | G7: TOTAL | H7: 6 à 12 | I7: 12 à 24 | J7: acim. 24 | K7: TOTAL | M7: 6 à 12 | N7: 12 à 24 | O7: acim. 24 | P7: TOTAL | Q7: 6 à 12 | R7: 12 à 24 | S7: acim. 24 | T7: TOTAL
A8: TOTAL GERAL | D8: =SUM(D10:D43) -> 0 | E8: =SUM(E10:E43) -> 0 | F8: =SUM(F10:F43) -> 0 | G8: =SUM(D8:F8) -> 0 | H8: =SUM(H10:H43) -> 0 | I8: =SUM(I10:I43) -> 0 | J8: =SUM(J10:J43) -> 0 | K8: =SUM(H8:J8) -> 0 | L8: =K8+G8 -> 0 | M8: =SUM(M10:M43) -> 0 | N8: =SUM(N10:N43) -> 0 | O8: =SUM(O10:O43) -> 0 | P8: =SUM(M8:O8) -> 0 | Q8: =SUM(Q10:Q43) -> 0 | R8: =SUM(R10:R43) -> 0 | S8: =SUM(S10:S43) -> 0 | T8: =SUM(Q8:S8) -> 0 | U8: =T8+P8 -> 0
A10: XXXXXXXX | G10: =SUM(D10:F10) -> 0 | K10: =SUM(H10:J10) -> 0 | L10: =K10+G10 -> 0 | P10: =SUM(M10:O10) -> 0 | T10: =SUM(Q10:S10) -> 0 | U10: =T10+P10 -> 0
G11: =SUM(D11:F11) -> 0 | K11: =SUM(H11:J11) -> 0 | L11: =K11+G11 -> 0 | P11: =SUM(M11:O11) -> 0 | T11: =SUM(Q11:S11) -> 0 | U11: =T11+P11 -> 0
G12: =SUM(D12:F12) -> 0 | K12: =SUM(H12:J12) -> 0 | L12: =K12+G12 -> 0 | P12: =SUM(M12:O12) -> 0 | T12: =SUM(Q12:S12) -> 0 | U12: =T12+P12 -> 0
G13: =SUM(D13:F13) -> 0 | K13: =SUM(H13:J13) -> 0 | L13: =K13+G13 -> 0 | P13: =SUM(M13:O13) -> 0 | T13: =SUM(Q13:S13) -> 0 | U13: =T13+P13 -> 0
G14: =SUM(D14:F14) -> 0 | K14: =SUM(H14:J14) -> 0 | L14: =K14+G14 -> 0 | P14: =SUM(M14:O14) -> 0 | T14: =SUM(Q14:S14) -> 0 | U14: =T14+P14 -> 0
G15: =SUM(D15:F15) -> 0 | K15: =SUM(H15:J15) -> 0 | L15: =K15+G15 -> 0 | P15: =SUM(M15:O15) -> 0 | T15: =SUM(Q15:S15) -> 0 | U15: =T15+P15 -> 0
G16: =SUM(D16:F16) -> 0 | K16: =SUM(H16:J16) -> 0 | L16: =K16+G16 -> 0 | P16: =SUM(M16:O16) -> 0 | T16: =SUM(Q16:S16) -> 0 | U16: =T16+P16 -> 0
G17: =SUM(D17:F17) -> 0 | K17: =SUM(H17:J17) -> 0 | L17: =K17+G17 -> 0 | P17: =SUM(M17:O17) -> 0 | T17: =SUM(Q17:S17) -> 0 | U17: =T17+P17 -> 0
G18: =SUM(D18:F18) -> 0 | K18: =SUM(H18:J18) -> 0 | L18: =K18+G18 -> 0 | P18: =SUM(M18:O18) -> 0 | T18: =SUM(Q18:S18) -> 0 | U18: =T18+P18 -> 0
G19: =SUM(D19:F19) -> 0 | K19: =SUM(H19:J19) -> 0 | L19: =K19+G19 -> 0 | P19: =SUM(M19:O19) -> 0 | T19: =SUM(Q19:S19) -> 0 | U19: =T19+P19 -> 0
G20: =SUM(D20:F20) -> 0 | K20: =SUM(H20:J20) -> 0 | L20: =K20+G20 -> 0 | P20: =SUM(M20:O20) -> 0 | T20: =SUM(Q20:S20) -> 0 | U20: =T20+P20 -> 0
G21: =SUM(D21:F21) -> 0 | K21: =SUM(H21:J21) -> 0 | L21: =K21+G21 -> 0 | P21: =SUM(M21:O21) -> 0 | T21: =SUM(Q21:S21) -> 0 | U21: =T21+P21 -> 0
G22: =SUM(D22:F22) -> 0 | K22: =SUM(H22:J22) -> 0 | L22: =K22+G22 -> 0 | P22: =SUM(M22:O22) -> 0 | T22: =SUM(Q22:S22) -> 0 | U22: =T22+P22 -> 0
... G43: =SUM(D43:F43) -> 0 | K43: =SUM(H43:J43) -> 0 | L43: =K43+G43 -> 0 | P43: =SUM(M43:O43) -> 0 | T43: =SUM(Q43:S43) -> 0 | U43: =T43+P43 -> 0

Sheet Planilha pra assinar
B1: ESTADO DE SANTA CATARINA
B2: SECRETARIA DE ESTADO DA EDUCAÇÃO
B3: COORDENADORIA REGIONAL DE EDUCAÇÃO DE xxxxxxxxxxxxx
A5: PLANILHA OFICIAL DO TRANSPORTE ESCOLAR DE 2026
A7: MUNICÍPIO DE: XXXXXXXXXXXXXXX
A8: GRUPO: | B8: XX
A9: Valor de 6,00 a 12,00 km: | D9: 1
A10: Valor de 12,01 a 24,00 km: | D10: 2
A11: Valor acima de 24,00 km: | D11: 3
A13: 1. Número e custo dos ALUNOS DO ENSINO FUNDAMENTAL da rede estadual a transportar, conforme distâncias:
A15: NÚMERO DE ALUNOS A TRANSPORTAR - IDA E VOLTA
A16: Distância de 6,00 a 12,00 km | D16: Distância de 12,01 a 24,00 km | G16: Distância acima de 24,00 km | J16: Total de Alunos
A17: =SUM(Escolas!D8,Escolas!H8) -> 0 | D17: =SUM(Escolas!E8,Escolas!I8) -> 0 | G17: =SUM(Escolas!F8,Escolas!J8) -> 0 | J17: =SUM(A17:I17) -> 0
A18: CUSTO DOS ALUNOS ANO POR DISTÃNCIA
A19: De 6,00 a 12,00 km | D19: De 12,01 a 24,00 km | G19: Acima de 24,00 km | J19: Custo total Aluno
A20: =A17*D9 -> 0 | D20: =D17*D10 -> 0 | G20: =G17*D11 -> 0 | J20: =SUM(A20:I20) -> 0
A22: Custo Geral Aluno ( Ensino Fundamental)
A23: =J20 -> 0
A25: 2. Número e custo dos ALUNOS DO ENSINO MÉDIO da rede estadual a transportar, conforme distâncias:
A27: NÚMERO DE ALUNOS A TRANSPORTAR - IDA E VOLTA
A28: Distância de 6,00 a 12,00 km | D28: Distância de 12,01 a 24,00 km | G28: Distância acima de 24,00 km | J28: Total de Alunos
A29: =SUM(Escolas!M8,Escolas!Q8) -> 0 | D29: =SUM(Escolas!N8,Escolas!R8) -> 0 | G29: =SUM(Escolas!O8,Escolas!S8) -> 0 | J29: =SUM(A29:I29) -> 0
A30: CUSTO DOS ALUNOS ANO POR DISTÃNCIA
A31: De 6,00 a 12,00 km | D31: De 12,01 a 24,00 km | G31: Acima de 24,00 km | J31: Custo total Aluno
A32: =A29*D9 -> 0 | D32: =D29*D10 -> 0 | G32: =G29*D11 -> 0 | J32: =SUM(A32:I32) -> 0
A34: Custo Geral Aluno ( Ensino Médio )
A35: =J32 -> 0
A37: 3.Relação e custo dos Docentes à disposição do Município quando houver:
A39: NOME DOS DOCENTES CEDIDOS | E39: MATRÍCULA | G39: CARGA HORÁRIA | I39: REMUNERAÇÃO/ANUAL
A41: Remuneração Total dos Docentes | I41: =SUM(I40:K40) -> 0
A43: 4. Cálculo do valor líquido a ser repassado ao Município:
A45: Custo Total Aluno/Ano | G45: Custo Docentes | I45: Valor Líquido
A46: Custo Geral aluno ( Ensino fundamental + Ensino Médio ) | I46: Custo Geral Aluno - Custo Docente
A47: =SUM(A35,A23) -> 0 | G47: =I41 -> 0 | I47: =A47-G47 -> 0
A49: Data da assinatura da Planilha: ___/___/______
A52: XXXXXXXXXXXXXX Coordenador Regional de Educação | G52: XXXXXXXXXXXXXXX Prefeito Municipal
